BEGIN:VCALENDAR
VERSION:2.0
PRODID:icalendar-ruby
CALSCALE:GREGORIAN
METHOD:PUBLISH
BEGIN:VEVENT
DTSTAMP:20260422T040029Z
UID:fd395feb-7dc5-47c1-8d08-3fac718c3641
DTSTART:20260801T090000
DTEND:20260802T173000
DESCRIPTION:<p>Climb it. Crawl it. Conquer it.</p><p>Slide out smiling.</p>
 <p>This is not a race.</p><p>This is not a fitness test.</p><p>This is a f
 ull-body\, full-family experience.</p><p>Whether you’re 4 or 74\, The Ga
 untlet is designed for movement\, laughter and just enough challenge to ma
 ke victory taste sweeter.</p><p>Bring your kids.</p><p>Bring your colleagu
 es.</p><p>Bring that friend who “doesn’t do exercise” and watch them
  prove themselves wrong.</p><p>Perfect for:</p><ul><li>Family outings</li>
 <li>Birthday parties</li><li>School holiday fun</li><li>Corporate team bui
 lding</li><li>Friend group challenges</li></ul><p>You enter through the bl
 ue gargoyle. You exit through the pink. Everything in between is adventure
 .</p><p><strong>The Gauntlet: Adventure Awaits.</strong></p><p><strong>Eve
 nt Highlights</strong></p><ul><li>Bring your picnic blankets\, hats\, and 
 sunscreen</li><li>Vendors on-site: slushies\, popcorn\, bubble tea\, ice c
 reams & more</li><li>Parties welcome! Speak to us about areas and venue op
 tions: hello@gauntlet.co.za</li><li>Corporate bookings: hello@gauntlet.co.
 za</li><li>Swimming costume\, towel or a change of clothes — you will ge
 t wet in the morning session</li></ul>
LOCATION:Westwood and North\, Melrose\, Johannesburg 2000
SUMMARY:The Gauntlet - James & Ethel Gray Park | August 2026
URL;VALUE=URI:https://thegauntlet.howler.co.za/aug_jande
END:VEVENT
END:VCALENDAR
